BEGIN:VCALENDAR
VERSION:2.0
PRODID:-//SLO County CRPA [crpaslo.org] - ECPv6.15.20//NONSGML v1.0//EN
CALSCALE:GREGORIAN
METHOD:PUBLISH
X-WR-CALNAME:SLO County CRPA [crpaslo.org]
X-ORIGINAL-URL:https://crpaslo.org
X-WR-CALDESC:Events for SLO County CRPA [crpaslo.org]
REFRESH-INTERVAL;VALUE=DURATION:PT1H
X-Robots-Tag:noindex
X-PUBLISHED-TTL:PT1H
BEGIN:VTIMEZONE
TZID:America/Los_Angeles
BEGIN:DAYLIGHT
TZOFFSETFROM:-0800
TZOFFSETTO:-0700
TZNAME:PDT
DTSTART:20240310T100000
END:DAYLIGHT
BEGIN:STANDARD
TZOFFSETFROM:-0700
TZOFFSETTO:-0800
TZNAME:PST
DTSTART:20241103T090000
END:STANDARD
BEGIN:DAYLIGHT
TZOFFSETFROM:-0800
TZOFFSETTO:-0700
TZNAME:PDT
DTSTART:20250309T100000
END:DAYLIGHT
BEGIN:STANDARD
TZOFFSETFROM:-0700
TZOFFSETTO:-0800
TZNAME:PST
DTSTART:20251102T090000
END:STANDARD
BEGIN:DAYLIGHT
TZOFFSETFROM:-0800
TZOFFSETTO:-0700
TZNAME:PDT
DTSTART:20260308T100000
END:DAYLIGHT
BEGIN:STANDARD
TZOFFSETFROM:-0700
TZOFFSETTO:-0800
TZNAME:PST
DTSTART:20261101T090000
END:STANDARD
END:VTIMEZONE
BEGIN:VEVENT
DTSTART;TZID=America/Los_Angeles:20251011T100000
DTEND;TZID=America/Los_Angeles:20251011T150000
DTSTAMP:20260423T222218
CREATED:20251011T033905Z
LAST-MODIFIED:20251011T034101Z
UID:4133-1760176800-1760194800@crpaslo.org
SUMMARY:The Sheriff’s Advisory Foundation Family Day
DESCRIPTION:The Sheriff’s Advisory Foundation has sponsored Sherriff’s Family Day at the Madonna Inn Meadows every year since 1996. This event allows the public to sneak a peek behind the badge and see how the department makes our community a safe place to live and grow. \nThere is something for everyone at Sheriff’s Family Day. Join us for displays and demonstrations from the Sheriff’s Posse\, Search and Rescue\, and the Sheriff’s SWAT vehicle. You can check out the emergency response helicopters and exhibitions featuring the Jaws of Life and Bomb Task Force. Don’t miss your opportunity to shake the paw of a K9 that helps to enforce the law. \nWe have free T-shirts\, hot dogs\, junior sheriff badge stickers\, coloring books\, and a bike raffle for all children up to age 12. Meet Sheriff Ian Parkinson and his famous movie partner Sheriff Woody from\, “Toy Story.” Best of all\, everything is free! \nDon’t miss the chance to meet the men and women sworn to protect and serve San Luis Obispo County. These individuals are your neighbors and friends\, who work tirelessly to make the community safe and secure. Sheriff’s Family Day is always the second Saturday of September from 10 a.m. to 3 p.m. at the Madonna Inn Meadows in San Luis Obispo. So mark your calendars!
URL:https://crpaslo.org/events/the-sheriffs-advisory-foundation-family-day/
LOCATION:Madonna Inn Meadows\, Madonna Inn\, San Luis Obispo\, CA\, 93405\, United States
CATEGORIES:Events,Opportunities
ATTACH;FMTTYPE=image/png:https://crpaslo.org/wp-content/uploads/SAF_Donation_General_2560x1696-300x300-1.png
END:VEVENT
END:VCALENDAR