BEGIN:VCALENDAR
VERSION:2.0
PRODID:-//SLO County CRPA [crpaslo.org] - ECPv6.15.20//NONSGML v1.0//EN
CALSCALE:GREGORIAN
METHOD:PUBLISH
X-WR-CALNAME:SLO County CRPA [crpaslo.org]
X-ORIGINAL-URL:https://crpaslo.org
X-WR-CALDESC:Events for SLO County CRPA [crpaslo.org]
REFRESH-INTERVAL;VALUE=DURATION:PT1H
X-Robots-Tag:noindex
X-PUBLISHED-TTL:PT1H
BEGIN:VTIMEZONE
TZID:America/Los_Angeles
BEGIN:DAYLIGHT
TZOFFSETFROM:-0800
TZOFFSETTO:-0700
TZNAME:PDT
DTSTART:20240310T100000
END:DAYLIGHT
BEGIN:STANDARD
TZOFFSETFROM:-0700
TZOFFSETTO:-0800
TZNAME:PST
DTSTART:20241103T090000
END:STANDARD
BEGIN:DAYLIGHT
TZOFFSETFROM:-0800
TZOFFSETTO:-0700
TZNAME:PDT
DTSTART:20250309T100000
END:DAYLIGHT
BEGIN:STANDARD
TZOFFSETFROM:-0700
TZOFFSETTO:-0800
TZNAME:PST
DTSTART:20251102T090000
END:STANDARD
BEGIN:DAYLIGHT
TZOFFSETFROM:-0800
TZOFFSETTO:-0700
TZNAME:PDT
DTSTART:20260308T100000
END:DAYLIGHT
BEGIN:STANDARD
TZOFFSETFROM:-0700
TZOFFSETTO:-0800
TZNAME:PST
DTSTART:20261101T090000
END:STANDARD
END:VTIMEZONE
BEGIN:VEVENT
DTSTART;TZID=America/Los_Angeles:20251118T180000
DTEND;TZID=America/Los_Angeles:20251118T193000
DTSTAMP:20260423T191821
CREATED:20251024T025927Z
LAST-MODIFIED:20251110T001656Z
UID:4212-1763488800-1763494200@crpaslo.org
SUMMARY:Meeting date changed in November! San Luis Obispo Gun Owners (CRPA) Chapter Meeting
DESCRIPTION:This month’s meeting meeting will include: \n\nA drawing for a KleenBore  multi-caliber pistol cleaning kit. Everyone in attendance will receive a drawing ticket.\nPizza\, bring your appetite.\nThose who bring two (2) or more items to donate to the ALF (Atascadero Loaves and Fishes) Food Pantry will receive one additional drawing ticket.\n\nAll food collected will be donated to Atascadero Loaves and Fishes (ALF) Food Pantry.\nCanned soup\, vegetables\, and fruit\nCanned tuna and/or other meats\nPeanut Butter\nSpaghetti and noodles\nMacaroni and cheese\nRice\nBeans\nLow-sugar cereals\nPLEASE\, NO GLASS ITEMS\nPlease click here for additional information on the ALF Food Pantry.\n\n\nJim will present an overview on proper firearm cleaning.\nTracy will give a talk on what we can expect for our meeting in 2026.\n\nMeetings are held from 6:00pm to 7:30pm at North County Republican Headquarters\, 7357 El Camino Real. \nThe November Meeting has been moved up 8 days due to Thanksgiving. The November meeting will be on Tuesday\, November 18\, 2025. The speaker for the meeting is TBD. \nThere will be no December meeting due to Christmas. \nA question was asked in the 10/22 meeting about transferring Glocks to another family member after the ban goes into effect. Here’s an excerpt from “The Reload” by Jake Fogleman published on September 16\, 2025:\n“…the new restrictions would take effect July 1\, 2026. The measure would not impact guns Californians already own\, nor would it govern private sales. Police officers and military personnel would be exempt from the sales ban.”
URL:https://crpaslo.org/events/san-luis-obispo-gun-owners-crpa-chapter-meeting-32/
LOCATION:North County Republican Headquarters\, 7357 El Camino Real\, Atascadero\, CA 93422\, Atascadero\, CA\, 93422\, United States
CATEGORIES:Meetings
ATTACH;FMTTYPE=image/jpeg:https://crpaslo.org/wp-content/uploads/meeting4.jpg
END:VEVENT
END:VCALENDAR