BEGIN:VCALENDAR
VERSION:2.0
PRODID:-//SLO County CRPA [crpaslo.org] - ECPv6.15.20//NONSGML v1.0//EN
CALSCALE:GREGORIAN
METHOD:PUBLISH
X-ORIGINAL-URL:https://crpaslo.org
X-WR-CALDESC:Events for SLO County CRPA [crpaslo.org]
REFRESH-INTERVAL;VALUE=DURATION:PT1H
X-Robots-Tag:noindex
X-PUBLISHED-TTL:PT1H
BEGIN:VTIMEZONE
TZID:America/Los_Angeles
BEGIN:DAYLIGHT
TZOFFSETFROM:-0800
TZOFFSETTO:-0700
TZNAME:PDT
DTSTART:20250309T100000
END:DAYLIGHT
BEGIN:STANDARD
TZOFFSETFROM:-0700
TZOFFSETTO:-0800
TZNAME:PST
DTSTART:20251102T090000
END:STANDARD
BEGIN:DAYLIGHT
TZOFFSETFROM:-0800
TZOFFSETTO:-0700
TZNAME:PDT
DTSTART:20260308T100000
END:DAYLIGHT
BEGIN:STANDARD
TZOFFSETFROM:-0700
TZOFFSETTO:-0800
TZNAME:PST
DTSTART:20261101T090000
END:STANDARD
BEGIN:DAYLIGHT
TZOFFSETFROM:-0800
TZOFFSETTO:-0700
TZNAME:PDT
DTSTART:20270314T100000
END:DAYLIGHT
BEGIN:STANDARD
TZOFFSETFROM:-0700
TZOFFSETTO:-0800
TZNAME:PST
DTSTART:20271107T090000
END:STANDARD
END:VTIMEZONE
BEGIN:VEVENT
DTSTART;TZID=America/Los_Angeles:20260225T180000
DTEND;TZID=America/Los_Angeles:20260225T193000
DTSTAMP:20260423T140151
CREATED:20251206T034405Z
LAST-MODIFIED:20251206T044151Z
UID:4365-1772042400-1772047800@crpaslo.org
SUMMARY:CRPA SLO Chapter Meeting
DESCRIPTION:San Luis Obispo Chapter of CRPA Monthly Meeting\nMeetings are held on the 4th Wednesday of every month from 6PM to 7:30PM at the Republican Party Headquarters in the Adobe Plaza\, 7357 El Camino Real\, Atascadero\, CA 93422 \nIn addition to the normal meeting agenda\, this month there will be a presentation on  \nIntroduction to CCW\n\nBrought to you by Gryphon Gun Works and the USCCA \nHelp us grow our chapter\, bring a friend to the meeting!
URL:https://crpaslo.org/events/crpa-slo-chapter-meeting-2/
LOCATION:North County Republican Headquarters\, 7357 El Camino Real\, Atascadero\, CA 93422\, Atascadero\, CA\, 93422\, United States
CATEGORIES:Meetings,Training
ATTACH;FMTTYPE=image/jpeg:https://crpaslo.org/wp-content/uploads/CRPAslo-8sXabk.jpg
END:VEVENT
END:VCALENDAR